BEGIN:VCALENDAR
VERSION:2.0
PRODID:-//eventon.com NONSGML v1.0//EN
BEGIN:VEVENT
UID:69e88d33bc453
DTSTAMP:20260422T085619
DTSTART:20250919T120000Z
DTEND:20250919T190000Z
TZID:Europe/Berlin
LOCATION:Josefstädter Straße\,  1080 Wien 
SUMMARY:Josefstädter Straßenfest
DESCRIPTION: Wien längstes Straßenfest &#8211; Mitten im Achten &#8211; im Herzen der Josefstadt! Das heurige Motto „Autofrei bewegt&#8220; bietet ganz viel Platz für Kreatives\,  Karitatives und Kulinarisches. Geboten wird 420 Minuten Lebensfreude direkt auf der Josefstädter Straße – in und vor den Geschäften und Lokalen. Unter dem Motto „Autofrei bewegt“ erwartet[..]\nhttps://lerchenfelderstrasse.at/events/josefstaedter-strassenfest/
URL:https://lerchenfelderstrasse.at/events/josefstaedter-strassenfest/
END:VEVENT
END:VCALENDAR